BEGIN:VCALENDAR
VERSION:2.0
PRODID:-//www.ketchikanarts.org//NONSGML kigkonsult.se iCalcreator 2.30.10/
 /
CALSCALE:GREGORIAN
METHOD:PUBLISH
UID:bca29cb6-012d-4b4a-9449-940a28da5d70
X-WR-CALDESC:
X-WR-RELCALID:fdcf593cc09cc5605751528e33afc398
X-WR-TIMEZONE:America/Anchorage
BEGIN:VTIMEZONE
TZID:America/Anchorage
BEGIN:STANDARD
TZNAME:AKST
DTSTART:20231105T020000
TZOFFSETFROM:-0800
TZOFFSETTO:-0900
RDATE:20241103T020000
RDATE:20251102T020000
END:STANDARD
BEGIN:DAYLIGHT
TZNAME:AKDT
DTSTART:20240310T020000
TZOFFSETFROM:-0900
TZOFFSETTO:-0800
RDATE:20250309T020000
END:DAYLIGHT
END:VTIMEZONE
BEGIN:VEVENT
UID:33404275-8c88-4515-9837-4e10ced71046
DTSTAMP:20260425T002420Z
DESCRIPTION:
DTSTART;TZID=America/Anchorage:20240802T140000
DTEND;TZID=America/Anchorage:20240804T210000
LOCATION:Downtown Ketchikan
SUMMARY:Blueberry Arts Festival - presented by the Ketchikan Area Arts and 
 Humanities Council
END:VEVENT
END:VCALENDAR
