BEGIN:VCALENDAR
VERSION:2.0
PRODID:-//www.ketchikanarts.org//NONSGML kigkonsult.se iCalcreator 2.30.10/
 /
CALSCALE:GREGORIAN
METHOD:PUBLISH
UID:c3fca121-c127-4570-8d26-fe61e1d12455
X-WR-CALDESC:
X-WR-RELCALID:5476de940fb0add2304ee4110ad572b1
X-WR-TIMEZONE:America/Anchorage
BEGIN:VTIMEZONE
TZID:America/Anchorage
BEGIN:STANDARD
TZNAME:AKST
DTSTART:20231105T020000
TZOFFSETFROM:-0800
TZOFFSETTO:-0900
RDATE:20241103T020000
RDATE:20251102T020000
END:STANDARD
BEGIN:DAYLIGHT
TZNAME:AKDT
DTSTART:20240310T020000
TZOFFSETFROM:-0900
TZOFFSETTO:-0800
RDATE:20250309T020000
END:DAYLIGHT
END:VTIMEZONE
BEGIN:VEVENT
UID:a9600c09-bb6c-405f-9dcc-a481dede73ff
DTSTAMP:20260425T001619Z
DESCRIPTION:
DTSTART;TZID=America/Anchorage:20240801T120000
DTEND;TZID=America/Anchorage:20240801T130000
LOCATION:If sunny - Berth 2\, If raining - Berth 3 shelter
SUMMARY:Music on the Dock - Evan Porter
END:VEVENT
END:VCALENDAR
