BEGIN:VCALENDAR
VERSION:2.0
PRODID:-//www.ketchikanarts.org//NONSGML kigkonsult.se iCalcreator 2.30.10/
 /
CALSCALE:GREGORIAN
METHOD:PUBLISH
UID:a2016a31-f8e4-46c1-b781-3a0faf26eb69
X-WR-CALDESC:
X-WR-RELCALID:c2901936f8577936a18c2d175427f7f2
X-WR-TIMEZONE:America/Anchorage
BEGIN:VTIMEZONE
TZID:America/Anchorage
BEGIN:STANDARD
TZNAME:AKST
DTSTART:20231105T020000
TZOFFSETFROM:-0800
TZOFFSETTO:-0900
RDATE:20241103T020000
RDATE:20251102T020000
END:STANDARD
BEGIN:DAYLIGHT
TZNAME:AKDT
DTSTART:20240310T020000
TZOFFSETFROM:-0900
TZOFFSETTO:-0800
RDATE:20250309T020000
END:DAYLIGHT
END:VTIMEZONE
BEGIN:VEVENT
UID:2458f301-0bc6-49b7-af36-3b55a2b8cb76
DTSTAMP:20260425T014322Z
DESCRIPTION:
DTSTART;TZID=America/Anchorage:20240731T120000
DTEND;TZID=America/Anchorage:20240731T130000
LOCATION:If sunny - Berth 2\, If raining - Berth 3 shelter
SUMMARY:Music on the Dock - Obvious Jazz
END:VEVENT
END:VCALENDAR
