BEGIN:VCALENDAR
VERSION:2.0
PRODID:-//www.ketchikanarts.org//NONSGML kigkonsult.se iCalcreator 2.30.10/
 /
CALSCALE:GREGORIAN
METHOD:PUBLISH
UID:a8f10ceb-8128-49b2-8ec5-5adfc88ab840
X-WR-CALDESC:
X-WR-RELCALID:5f7dfa3dbe2d0885111ff4ecd4ec1d0e
X-WR-TIMEZONE:America/Anchorage
BEGIN:VTIMEZONE
TZID:America/Anchorage
BEGIN:STANDARD
TZNAME:AKST
DTSTART:20231105T020000
TZOFFSETFROM:-0800
TZOFFSETTO:-0900
RDATE:20241103T020000
RDATE:20251102T020000
END:STANDARD
BEGIN:DAYLIGHT
TZNAME:AKDT
DTSTART:20240310T020000
TZOFFSETFROM:-0900
TZOFFSETTO:-0800
RDATE:20250309T020000
END:DAYLIGHT
END:VTIMEZONE
BEGIN:VEVENT
UID:0af2425f-badd-4be9-bd75-d9128732c654
DTSTAMP:20260425T014527Z
DESCRIPTION:
DTSTART;TZID=America/Anchorage:20240730T120000
DTEND;TZID=America/Anchorage:20240730T130000
LOCATION:Berth 2 if its sunny - Berth 3 if its not!
SUMMARY:The Point Band - Music on the Dock
END:VEVENT
END:VCALENDAR
