BEGIN:VCALENDAR
VERSION:2.0
PRODID:-//www.ketchikanarts.org//NONSGML kigkonsult.se iCalcreator 2.30.10/
 /
CALSCALE:GREGORIAN
METHOD:PUBLISH
UID:12a43c93-bc45-4e7d-83d2-9b8b5be8cff8
X-WR-CALDESC:
X-WR-RELCALID:f25dd32f2b17f759c73989c1fd1873e5
X-WR-TIMEZONE:America/Anchorage
BEGIN:VTIMEZONE
TZID:America/Anchorage
BEGIN:STANDARD
TZNAME:AKST
DTSTART:20231105T020000
TZOFFSETFROM:-0800
TZOFFSETTO:-0900
RDATE:20241103T020000
RDATE:20251102T020000
END:STANDARD
BEGIN:DAYLIGHT
TZNAME:AKDT
DTSTART:20240310T020000
TZOFFSETFROM:-0900
TZOFFSETTO:-0800
RDATE:20250309T020000
END:DAYLIGHT
END:VTIMEZONE
BEGIN:VEVENT
UID:0b06f674-6a66-405a-9195-5dbbb25683c6
DTSTAMP:20260425T014540Z
DESCRIPTION:
DTSTART;TZID=America/Anchorage:20240726T120000
DTEND;TZID=America/Anchorage:20240726T130000
LOCATION:If sunny - Berth 2\, If raining - Berth 3 shelter
SUMMARY:Magsayawan Ketchikan - Music on the Dock
END:VEVENT
END:VCALENDAR
