BEGIN:VCALENDAR
VERSION:2.0
PRODID:-//www.ketchikanarts.org//NONSGML kigkonsult.se iCalcreator 2.30.10/
 /
CALSCALE:GREGORIAN
METHOD:PUBLISH
UID:c4c0cc37-e6cd-4f62-9749-55bf4dcc56dd
X-WR-CALDESC:
X-WR-RELCALID:dfc71cc10381c9fe85d6b507fa8880df
X-WR-TIMEZONE:America/Anchorage
BEGIN:VTIMEZONE
TZID:America/Anchorage
BEGIN:STANDARD
TZNAME:AKST
DTSTART:20231105T020000
TZOFFSETFROM:-0800
TZOFFSETTO:-0900
RDATE:20241103T020000
RDATE:20251102T020000
END:STANDARD
BEGIN:DAYLIGHT
TZNAME:AKDT
DTSTART:20240310T020000
TZOFFSETFROM:-0900
TZOFFSETTO:-0800
RDATE:20250309T020000
END:DAYLIGHT
END:VTIMEZONE
BEGIN:VEVENT
UID:a662c6e3-d3d7-4e7d-b68c-637c99a4bbf6
DTSTAMP:20260425T014150Z
DESCRIPTION:
DTSTART;TZID=America/Anchorage:20240725T180000
DTEND;TZID=America/Anchorage:20240725T210000
LOCATION:Kayhi Green Room
SUMMARY:Clown Class with Tallie Medel
END:VEVENT
END:VCALENDAR
