BEGIN:VCALENDAR
VERSION:2.0
PRODID:-//www.ketchikanarts.org//NONSGML kigkonsult.se iCalcreator 2.30.10/
 /
CALSCALE:GREGORIAN
METHOD:PUBLISH
UID:f5b85a92-8922-4375-86ad-b01800b4a1a7
X-WR-CALDESC:
X-WR-RELCALID:dfb860b4c697e18cb4128d8a26f831bc
X-WR-TIMEZONE:America/Anchorage
BEGIN:VTIMEZONE
TZID:America/Anchorage
BEGIN:STANDARD
TZNAME:AKST
DTSTART:20231105T020000
TZOFFSETFROM:-0800
TZOFFSETTO:-0900
RDATE:20241103T020000
RDATE:20251102T020000
END:STANDARD
BEGIN:DAYLIGHT
TZNAME:AKDT
DTSTART:20240310T020000
TZOFFSETFROM:-0900
TZOFFSETTO:-0800
RDATE:20250309T020000
END:DAYLIGHT
END:VTIMEZONE
BEGIN:VEVENT
UID:01690130-32d0-419a-9d74-30e5ba471f6f
DTSTAMP:20260425T014118Z
DESCRIPTION:
DTSTART;TZID=America/Anchorage:20240724T180000
DTEND;TZID=America/Anchorage:20240724T210000
LOCATION:Kayhi Green Room
SUMMARY:Clown Class with Tallie Medel
END:VEVENT
END:VCALENDAR
