BEGIN:VCALENDAR
VERSION:2.0
PRODID:-//www.ketchikanarts.org//NONSGML kigkonsult.se iCalcreator 2.30.10/
 /
CALSCALE:GREGORIAN
METHOD:PUBLISH
UID:80226f6c-632d-4e0d-945b-ea4571773cc9
X-WR-CALDESC:The wonderful Stephanie Patton hosts the show After Hours Alas
 ka every Wednesday from 9pm-11pm on KRBD. You can find out more informatio
 n here as she interview musicians on a weekly basis. \n\n
X-WR-RELCALID:aae6e06f56d9eec15cc5df2148312eeb
X-WR-TIMEZONE:America/Anchorage
BEGIN:VTIMEZONE
TZID:America/Anchorage
BEGIN:STANDARD
TZNAME:AKST
DTSTART:20231105T020000
TZOFFSETFROM:-0800
TZOFFSETTO:-0900
RDATE:20241103T020000
RDATE:20251102T020000
END:STANDARD
BEGIN:DAYLIGHT
TZNAME:AKDT
DTSTART:20240310T020000
TZOFFSETFROM:-0900
TZOFFSETTO:-0800
RDATE:20250309T020000
END:DAYLIGHT
END:VTIMEZONE
BEGIN:VEVENT
UID:1bc9c7b4-b330-4165-9e05-7cadc725f8d5
DTSTAMP:20260425T014857Z
DESCRIPTION:The wonderful Stephanie Patton hosts the show After Hours Alask
 a every Wednesday from 9pm-11pm on KRBD. You can find out more information
  here as she interview musicians on a weekly basis. \n\n
DTSTART;TZID=America/Anchorage:20240717T210000
DTEND;TZID=America/Anchorage:20240717T230000
LOCATION:
SUMMARY:After Hours Alaska
END:VEVENT
END:VCALENDAR
