BEGIN:VCALENDAR
VERSION:2.0
PRODID:-//www.ketchikanarts.org//NONSGML kigkonsult.se iCalcreator 2.30.10/
 /
CALSCALE:GREGORIAN
METHOD:PUBLISH
UID:a052dbcb-9b8d-493c-830c-2f325ef20947
X-WR-CALDESC:Get your singing on at Open Mic Night every week.\nNo cover ch
 arge.
X-WR-RELCALID:ac652715ec8d46502be26066a097fbbd
X-WR-TIMEZONE:America/Anchorage
BEGIN:VTIMEZONE
TZID:America/Anchorage
BEGIN:STANDARD
TZNAME:AKST
DTSTART:20231105T020000
TZOFFSETFROM:-0800
TZOFFSETTO:-0900
RDATE:20241103T020000
RDATE:20251102T020000
END:STANDARD
BEGIN:DAYLIGHT
TZNAME:AKDT
DTSTART:20240310T020000
TZOFFSETFROM:-0900
TZOFFSETTO:-0800
RDATE:20250309T020000
END:DAYLIGHT
END:VTIMEZONE
BEGIN:VEVENT
UID:a12a7fca-a8dd-4468-bed5-39b7f8d60681
DTSTAMP:20260425T014119Z
DESCRIPTION:Get your singing on at Open Mic Night every week.\nNo cover cha
 rge.
DTSTART;TZID=America/Anchorage:20240714T180000
DTEND;TZID=America/Anchorage:20240714T210000
LOCATION:
SUMMARY:Open Mic Night
END:VEVENT
END:VCALENDAR
