BEGIN:VCALENDAR
VERSION:2.0
PRODID:-//www.ketchikanarts.org//NONSGML kigkonsult.se iCalcreator 2.30.10/
 /
CALSCALE:GREGORIAN
METHOD:PUBLISH
UID:2dbb0a21-5714-4157-83f4-b4b67400b705
X-WR-CALDESC:
X-WR-RELCALID:5bb4508af3bfee839f280c308dfbf023
X-WR-TIMEZONE:America/Anchorage
BEGIN:VTIMEZONE
TZID:America/Anchorage
BEGIN:STANDARD
TZNAME:AKST
DTSTART:20231105T020000
TZOFFSETFROM:-0800
TZOFFSETTO:-0900
RDATE:20241103T020000
RDATE:20251102T020000
END:STANDARD
BEGIN:DAYLIGHT
TZNAME:AKDT
DTSTART:20240310T020000
TZOFFSETFROM:-0900
TZOFFSETTO:-0800
RDATE:20250309T020000
END:DAYLIGHT
END:VTIMEZONE
BEGIN:VEVENT
UID:00409191-213e-487b-b2dc-3262e855b2e6
DTSTAMP:20260425T014410Z
DESCRIPTION:
DTSTART;TZID=America/Anchorage:20240713T200000
DTEND;TZID=America/Anchorage:20240713T213000
LOCATION:Creek Street Cabaret
SUMMARY:Jazz Pianist Lisa Sung
END:VEVENT
END:VCALENDAR
