BEGIN:VCALENDAR
VERSION:2.0
PRODID:-//www.ketchikanarts.org//NONSGML kigkonsult.se iCalcreator 2.30.10/
 /
CALSCALE:GREGORIAN
METHOD:PUBLISH
UID:58960746-cdaa-4c71-a931-fab779a676f0
X-WR-CALDESC:Alaska's longest-running stage production—Ketchikan's very own
  The Fish Pirate's Daughter—Performances on July 5th\, 6th\, 12th\, and 13
 th at the Ted Ferry Civic Center!\n\nThis campy\, saucy melodrama is a com
 ical look back at parts of Ketchikan's past\, with tongue planted firmly i
 n cheek. Don't miss the 58th annual production of this notoriously funny s
 how!
X-WR-RELCALID:1438b36bf39b6ed241963cdda7a1559d
X-WR-TIMEZONE:America/Anchorage
BEGIN:VTIMEZONE
TZID:America/Anchorage
BEGIN:STANDARD
TZNAME:AKST
DTSTART:20231105T020000
TZOFFSETFROM:-0800
TZOFFSETTO:-0900
RDATE:20241103T020000
RDATE:20251102T020000
END:STANDARD
BEGIN:DAYLIGHT
TZNAME:AKDT
DTSTART:20240310T020000
TZOFFSETFROM:-0900
TZOFFSETTO:-0800
RDATE:20250309T020000
END:DAYLIGHT
END:VTIMEZONE
BEGIN:VEVENT
UID:ad3508ad-8017-4c33-9ea5-15951ac9bfdc
DTSTAMP:20260425T014733Z
DESCRIPTION:Alaska's longest-running stage production—Ketchikan's very own 
 The Fish Pirate's Daughter—Performances on July 5th\, 6th\, 12th\, and 13t
 h at the Ted Ferry Civic Center!\n\nThis campy\, saucy melodrama is a comi
 cal look back at parts of Ketchikan's past\, with tongue planted firmly in
  cheek. Don't miss the 58th annual production of this notoriously funny sh
 ow!
DTSTART;TZID=America/Anchorage:20240713T190000
DTEND;TZID=America/Anchorage:20240713T213000
LOCATION:Ted Ferry Civic Center
SUMMARY:Fish Pirates Daughter - First City Players
END:VEVENT
END:VCALENDAR
