BEGIN:VCALENDAR
VERSION:2.0
PRODID:-//www.ketchikanarts.org//NONSGML kigkonsult.se iCalcreator 2.30.10/
 /
CALSCALE:GREGORIAN
METHOD:PUBLISH
UID:57a4e995-9f28-4d35-9548-2dfa8b47a6b4
X-WR-CALDESC:
X-WR-RELCALID:851ac10f864503dc109918bdbf1593c3
X-WR-TIMEZONE:America/Anchorage
BEGIN:VTIMEZONE
TZID:America/Anchorage
BEGIN:STANDARD
TZNAME:AKST
DTSTART:20231105T020000
TZOFFSETFROM:-0800
TZOFFSETTO:-0900
RDATE:20241103T020000
RDATE:20251102T020000
END:STANDARD
BEGIN:DAYLIGHT
TZNAME:AKDT
DTSTART:20240310T020000
TZOFFSETFROM:-0900
TZOFFSETTO:-0800
RDATE:20250309T020000
END:DAYLIGHT
END:VTIMEZONE
BEGIN:VEVENT
UID:a87acc69-6de9-4903-b16b-51fa25d90b1b
DTSTAMP:20260425T014532Z
DESCRIPTION:
DTSTART;TZID=America/Anchorage:20240711T120000
DTEND;TZID=America/Anchorage:20240711T130000
LOCATION:If sunny - Berth 2\, If raining - Berth 3 shelter
SUMMARY:Music on the Dock - Professor Stank's Diagnosis
END:VEVENT
END:VCALENDAR
