BEGIN:VCALENDAR
VERSION:2.0
PRODID:-//www.ketchikanarts.org//NONSGML kigkonsult.se iCalcreator 2.30.10/
 /
CALSCALE:GREGORIAN
METHOD:PUBLISH
UID:073ff4a4-895c-4d43-b1b5-e4eb9c455ebe
X-WR-CALDESC:
X-WR-RELCALID:e7e52f97aa13e2840c9fd2832eb8f4d0
X-WR-TIMEZONE:America/Anchorage
BEGIN:VTIMEZONE
TZID:America/Anchorage
BEGIN:STANDARD
TZNAME:AKST
DTSTART:20231105T020000
TZOFFSETFROM:-0800
TZOFFSETTO:-0900
RDATE:20241103T020000
RDATE:20251102T020000
END:STANDARD
BEGIN:DAYLIGHT
TZNAME:AKDT
DTSTART:20240310T020000
TZOFFSETFROM:-0900
TZOFFSETTO:-0800
RDATE:20250309T020000
END:DAYLIGHT
END:VTIMEZONE
BEGIN:VEVENT
UID:3518ac52-b341-42cb-b287-07c92f0388ff
DTSTAMP:20260425T014619Z
DESCRIPTION:
DTSTART;TZID=America/Anchorage:20240709T120000
DTEND;TZID=America/Anchorage:20240709T130000
LOCATION:If sunny - Berth 2\, If raining - Berth 3 shelter
SUMMARY:Music on the Dock - Sarah Short and Aidan Sears
END:VEVENT
END:VCALENDAR
