BEGIN:VCALENDAR
VERSION:2.0
PRODID:-//www.ketchikanarts.org//NONSGML kigkonsult.se iCalcreator 2.30.10/
 /
CALSCALE:GREGORIAN
METHOD:PUBLISH
UID:14a0fe33-2a65-47a5-85a5-66468c35a3cc
X-WR-CALDESC:
X-WR-RELCALID:af45f91c6b7b4d362396180d9b17cfb6
X-WR-TIMEZONE:America/Anchorage
BEGIN:VTIMEZONE
TZID:America/Anchorage
BEGIN:STANDARD
TZNAME:AKST
DTSTART:20231105T020000
TZOFFSETFROM:-0800
TZOFFSETTO:-0900
RDATE:20241103T020000
RDATE:20251102T020000
END:STANDARD
BEGIN:DAYLIGHT
TZNAME:AKDT
DTSTART:20240310T020000
TZOFFSETFROM:-0900
TZOFFSETTO:-0800
RDATE:20250309T020000
END:DAYLIGHT
END:VTIMEZONE
BEGIN:VEVENT
UID:568ceceb-ee30-46e2-8def-b607f52c7587
DTSTAMP:20260425T014412Z
DESCRIPTION:
DTSTART;TZID=America/Anchorage:20240708T020000
DTEND;TZID=America/Anchorage:20240711T020001
LOCATION:Kayhi
SUMMARY:Senior ArtsCool - OPTIONAL BOOT CAMP - First City Players
END:VEVENT
END:VCALENDAR
