BEGIN:VCALENDAR
VERSION:2.0
PRODID:-//www.ketchikanarts.org//NONSGML kigkonsult.se iCalcreator 2.30.10/
 /
CALSCALE:GREGORIAN
METHOD:PUBLISH
UID:8889c1b9-f976-4078-b2f9-c3b97daa0d12
X-WR-CALDESC:Don't miss featured author Evelyn Wilburn and artist Felicia D
 upea for this First Friday event in Craig\, Alaska!!!
X-WR-RELCALID:f1edace14d280d5aab99bd4a6864c024
X-WR-TIMEZONE:America/Anchorage
BEGIN:VTIMEZONE
TZID:America/Anchorage
BEGIN:STANDARD
TZNAME:AKST
DTSTART:20231105T020000
TZOFFSETFROM:-0800
TZOFFSETTO:-0900
RDATE:20241103T020000
RDATE:20251102T020000
END:STANDARD
BEGIN:DAYLIGHT
TZNAME:AKDT
DTSTART:20240310T020000
TZOFFSETFROM:-0900
TZOFFSETTO:-0800
RDATE:20250309T020000
END:DAYLIGHT
END:VTIMEZONE
BEGIN:VEVENT
UID:d0128e0c-6c33-445e-8914-2bdb2b95850b
DTSTAMP:20260425T014119Z
DESCRIPTION:Don't miss featured author Evelyn Wilburn and artist Felicia Du
 pea for this First Friday event in Craig\, Alaska!!!
DTSTART;TZID=America/Anchorage:20240705T170000
DTEND;TZID=America/Anchorage:20240705T190000
LOCATION:Westwind Plaza\, Craig\, AK
SUMMARY:First Friday Art Walk - Craig\, AK
END:VEVENT
END:VCALENDAR
