BEGIN:VCALENDAR
VERSION:2.0
PRODID:-//www.ketchikanarts.org//NONSGML kigkonsult.se iCalcreator 2.30.10/
 /
CALSCALE:GREGORIAN
METHOD:PUBLISH
UID:09f460d2-cc29-4628-94cd-5051b8bd3a6e
X-WR-CALDESC:Woody's Finest Hour plays at the Creek Street Cabaret until th
 e Fireworks start!!!
X-WR-RELCALID:8f4b5d17bc30795765324e81eeea6721
X-WR-TIMEZONE:America/Anchorage
BEGIN:VTIMEZONE
TZID:America/Anchorage
BEGIN:STANDARD
TZNAME:AKST
DTSTART:20231105T020000
TZOFFSETFROM:-0800
TZOFFSETTO:-0900
RDATE:20241103T020000
RDATE:20251102T020000
END:STANDARD
BEGIN:DAYLIGHT
TZNAME:AKDT
DTSTART:20240310T020000
TZOFFSETFROM:-0900
TZOFFSETTO:-0800
RDATE:20250309T020000
END:DAYLIGHT
END:VTIMEZONE
BEGIN:VEVENT
UID:277b22c7-ad3a-4013-9bc1-a3d14fea6137
DTSTAMP:20260425T014054Z
DESCRIPTION:Woody's Finest Hour plays at the Creek Street Cabaret until the
  Fireworks start!!!
DTSTART;TZID=America/Anchorage:20240704T190000
DTEND;TZID=America/Anchorage:20240704T220000
LOCATION:Creek Street Cabaret
SUMMARY:Woody's Finest Hour performs!!!
END:VEVENT
END:VCALENDAR
