BEGIN:VCALENDAR
VERSION:2.0
PRODID:-//www.ketchikanarts.org//NONSGML kigkonsult.se iCalcreator 2.30.10/
 /
CALSCALE:GREGORIAN
METHOD:PUBLISH
UID:2867d5fd-fda4-472b-a305-63fbcb65bd77
X-WR-CALDESC:
X-WR-RELCALID:13b825bdd014ff0a3a14919a0d024e4f
X-WR-TIMEZONE:America/Anchorage
BEGIN:VTIMEZONE
TZID:America/Anchorage
BEGIN:STANDARD
TZNAME:AKST
DTSTART:20231105T020000
TZOFFSETFROM:-0800
TZOFFSETTO:-0900
RDATE:20241103T020000
RDATE:20251102T020000
END:STANDARD
BEGIN:DAYLIGHT
TZNAME:AKDT
DTSTART:20240310T020000
TZOFFSETFROM:-0900
TZOFFSETTO:-0800
RDATE:20250309T020000
END:DAYLIGHT
END:VTIMEZONE
BEGIN:VEVENT
UID:b6915382-6ca7-4ea6-bd1c-bc82ba4328b0
DTSTAMP:20260425T014823Z
DESCRIPTION:
DTSTART;TZID=America/Anchorage:20240703T170000
DTEND;TZID=America/Anchorage:20240704T160000
LOCATION:Grant St & Main Street Parking Lot\, Ketchikan\, AK 99901 US
SUMMARY:Ketchikan Chamber of Commerce - 4th of July Fourth Fest
END:VEVENT
END:VCALENDAR
