BEGIN:VCALENDAR
VERSION:2.0
PRODID:-//www.ketchikanarts.org//NONSGML kigkonsult.se iCalcreator 2.30.10/
 /
CALSCALE:GREGORIAN
METHOD:PUBLISH
UID:b18da0a3-37dd-40d4-af3d-3413f32fc8d4
X-WR-CALDESC:
X-WR-RELCALID:ae1050fb6995d59162e2cc0585d61407
X-WR-TIMEZONE:America/Anchorage
BEGIN:VTIMEZONE
TZID:America/Anchorage
BEGIN:STANDARD
TZNAME:AKST
DTSTART:20231105T020000
TZOFFSETFROM:-0800
TZOFFSETTO:-0900
RDATE:20241103T020000
RDATE:20251102T020000
END:STANDARD
BEGIN:DAYLIGHT
TZNAME:AKDT
DTSTART:20240310T020000
TZOFFSETFROM:-0900
TZOFFSETTO:-0800
RDATE:20250309T020000
END:DAYLIGHT
END:VTIMEZONE
BEGIN:VEVENT
UID:e04ab3ff-9e45-4a01-a3d5-ac249b403b33
DTSTAMP:20260425T014619Z
DESCRIPTION:
DTSTART;TZID=America/Anchorage:20240701T120000
DTEND;TZID=America/Anchorage:20240701T130000
LOCATION:If sunny - Berth 2\, If raining - Berth 3 shelter
SUMMARY:Music on the Dock - Ketchikan Flute Band
END:VEVENT
END:VCALENDAR
