BEGIN:VCALENDAR
VERSION:2.0
PRODID:-//www.ketchikanarts.org//NONSGML kigkonsult.se iCalcreator 2.30.10/
 /
CALSCALE:GREGORIAN
METHOD:PUBLISH
UID:69ab3662-ef81-4e4a-a3d2-4ea72261f6a6
X-WR-CALDESC:
X-WR-RELCALID:276d759106afe01484b4d3903414aa6f
X-WR-TIMEZONE:America/Anchorage
BEGIN:VTIMEZONE
TZID:America/Anchorage
BEGIN:STANDARD
TZNAME:AKST
DTSTART:20231105T020000
TZOFFSETFROM:-0800
TZOFFSETTO:-0900
RDATE:20241103T020000
RDATE:20251102T020000
END:STANDARD
BEGIN:DAYLIGHT
TZNAME:AKDT
DTSTART:20240310T020000
TZOFFSETFROM:-0900
TZOFFSETTO:-0800
RDATE:20250309T020000
END:DAYLIGHT
END:VTIMEZONE
BEGIN:VEVENT
UID:48168c5c-2afa-4c58-96cb-db5d5456df60
DTSTAMP:20260425T031630Z
DESCRIPTION:
DTSTART;TZID=America/Anchorage:20240627T120000
DTEND;TZID=America/Anchorage:20240627T130000
LOCATION:If sunny - Berth 2\, If raining - Berth 3 shelter
SUMMARY:Music on the Dock - Lallette Kistler
END:VEVENT
END:VCALENDAR
