BEGIN:VCALENDAR
VERSION:2.0
PRODID:-//www.ketchikanarts.org//NONSGML kigkonsult.se iCalcreator 2.30.10/
 /
CALSCALE:GREGORIAN
METHOD:PUBLISH
UID:0ec26a60-bcc9-4727-b1ca-53697dcc9d34
X-WR-CALDESC:The last in a series of 6\, this performance will highlight si
 nger songwriters and performers who have passed away in the last year. $15
  at the door!
X-WR-RELCALID:c62de69a7a890972c37a3dd5b470133f
X-WR-TIMEZONE:America/Anchorage
BEGIN:VTIMEZONE
TZID:America/Anchorage
BEGIN:STANDARD
TZNAME:AKST
DTSTART:20231105T020000
TZOFFSETFROM:-0800
TZOFFSETTO:-0900
RDATE:20241103T020000
RDATE:20251102T020000
END:STANDARD
BEGIN:DAYLIGHT
TZNAME:AKDT
DTSTART:20240310T020000
TZOFFSETFROM:-0900
TZOFFSETTO:-0800
RDATE:20250309T020000
END:DAYLIGHT
END:VTIMEZONE
BEGIN:VEVENT
UID:b1ba6883-03e8-4496-a6d9-8c3c702b20cc
DTSTAMP:20260425T030853Z
DESCRIPTION:The last in a series of 6\, this performance will highlight sin
 ger songwriters and performers who have passed away in the last year. $15 
 at the door!
DTSTART;TZID=America/Anchorage:20240627T190000
DTEND;TZID=America/Anchorage:20240627T203000
LOCATION:
SUMMARY:Diane Slagle - Always leave them wanting more
END:VEVENT
END:VCALENDAR
