BEGIN:VCALENDAR
VERSION:2.0
PRODID:-//www.ketchikanarts.org//NONSGML kigkonsult.se iCalcreator 2.30.10/
 /
CALSCALE:GREGORIAN
METHOD:PUBLISH
UID:d4487601-fc44-468c-913f-7b261e60f2e5
X-WR-CALDESC:
X-WR-RELCALID:b9c5c803199db37103e742e654e99bf7
X-WR-TIMEZONE:America/Anchorage
BEGIN:VTIMEZONE
TZID:America/Anchorage
BEGIN:STANDARD
TZNAME:AKST
DTSTART:20231105T020000
TZOFFSETFROM:-0800
TZOFFSETTO:-0900
RDATE:20241103T020000
RDATE:20251102T020000
END:STANDARD
BEGIN:DAYLIGHT
TZNAME:AKDT
DTSTART:20240310T020000
TZOFFSETFROM:-0900
TZOFFSETTO:-0800
RDATE:20250309T020000
END:DAYLIGHT
END:VTIMEZONE
BEGIN:VEVENT
UID:71195f24-ce3f-4310-ab0f-f85d3cfdf111
DTSTAMP:20260425T031157Z
DESCRIPTION:
DTSTART;TZID=America/Anchorage:20240615T113000
DTEND;TZID=America/Anchorage:20240615T153000
LOCATION:300 Block of Dock St\, Downtown Ketchikan
SUMMARY:We Belong Block Party!
END:VEVENT
END:VCALENDAR
