BEGIN:VCALENDAR
VERSION:2.0
PRODID:-//www.ketchikanarts.org//NONSGML kigkonsult.se iCalcreator 2.30.10/
 /
CALSCALE:GREGORIAN
METHOD:PUBLISH
UID:e73180de-401d-4709-aa19-0d42d671043a
X-WR-CALDESC:The Artsits of Ketchikan Invitational Exhibit celebrates the d
 iversity and spirit of Ketchikan area artists!!!!
X-WR-RELCALID:122b1c82ef394217dd3b5fa7eceaa3a4
X-WR-TIMEZONE:America/Anchorage
BEGIN:VTIMEZONE
TZID:America/Anchorage
BEGIN:STANDARD
TZNAME:AKST
DTSTART:20231105T020000
TZOFFSETFROM:-0800
TZOFFSETTO:-0900
RDATE:20241103T020000
RDATE:20251102T020000
END:STANDARD
BEGIN:DAYLIGHT
TZNAME:AKDT
DTSTART:20240310T020000
TZOFFSETFROM:-0900
TZOFFSETTO:-0800
RDATE:20250309T020000
END:DAYLIGHT
END:VTIMEZONE
BEGIN:VEVENT
UID:cc6267c3-1a7e-48c1-9d03-45520fb29159
DTSTAMP:20260425T032511Z
DESCRIPTION:The Artsits of Ketchikan Invitational Exhibit celebrates the di
 versity and spirit of Ketchikan area artists!!!!
DTSTART;TZID=America/Anchorage:20240607T170000
DTEND;TZID=America/Anchorage:20240607T190000
LOCATION:Main Street Gallery
SUMMARY:Opening Reception - Artists of Ketchikan Invitaional Exhibit
END:VEVENT
END:VCALENDAR
