BEGIN:VCALENDAR
VERSION:2.0
PRODID:-//www.ketchikanarts.org//NONSGML kigkonsult.se iCalcreator 2.30.10/
 /
CALSCALE:GREGORIAN
METHOD:PUBLISH
UID:1e3d11c5-56e0-4651-8c74-53bd9e7af708
X-WR-CALDESC:Community of Ketchikan\,\n\nKWC IS NOW ACCEPTING SUBMISSIONS F
 OR:\nCULTURAL FOOD BOOTH VENDORS \nENTERTAINMENT PROMOTING KETCHIKAN’S DIV
 ERSITY\n\nFor more information contact:\n \nAlma Manabat Parker | Health E
 quity Program Director-Sama Sama Tayo Project\n602 Dock Street\, Ste. 108 
 | Ketchikan\, AK 99901\noffice 907.225.9355 | mobile 907.821.0488\n
X-WR-RELCALID:1fb77be466568e938edc3d9b6f8fbcfd
X-WR-TIMEZONE:America/Anchorage
BEGIN:VTIMEZONE
TZID:America/Anchorage
BEGIN:STANDARD
TZNAME:AKST
DTSTART:20231105T020000
TZOFFSETFROM:-0800
TZOFFSETTO:-0900
RDATE:20241103T020000
RDATE:20251102T020000
END:STANDARD
BEGIN:DAYLIGHT
TZNAME:AKDT
DTSTART:20240310T020000
TZOFFSETFROM:-0900
TZOFFSETTO:-0800
RDATE:20250309T020000
END:DAYLIGHT
END:VTIMEZONE
BEGIN:VEVENT
UID:901ab5d9-d10b-421f-b282-33767a5bc2a4
DTSTAMP:20260425T031448Z
DESCRIPTION:Community of Ketchikan\,\n\nKWC IS NOW ACCEPTING SUBMISSIONS FO
 R:\nCULTURAL FOOD BOOTH VENDORS \nENTERTAINMENT PROMOTING KETCHIKAN’S DIVE
 RSITY\n\nFor more information contact:\n \nAlma Manabat Parker | Health Eq
 uity Program Director-Sama Sama Tayo Project\n602 Dock Street\, Ste. 108 |
  Ketchikan\, AK 99901\noffice 907.225.9355 | mobile 907.821.0488\n
DTSTART;TZID=America/Anchorage:20240603T020000
DTEND;TZID=America/Anchorage:20240603T020001
LOCATION:
SUMMARY:We Belong Block Party! - Call to Vendors
END:VEVENT
END:VCALENDAR
