BEGIN:VCALENDAR
VERSION:2.0
PRODID:-//www.ketchikanarts.org//NONSGML kigkonsult.se iCalcreator 2.30.10/
 /
CALSCALE:GREGORIAN
METHOD:PUBLISH
UID:95b70c46-4ff4-4f49-82e0-55ecc71c907c
X-WR-CALDESC:
X-WR-RELCALID:18490c4108364ba5e87959fd15aea70e
X-WR-TIMEZONE:America/Anchorage
BEGIN:VTIMEZONE
TZID:America/Anchorage
BEGIN:STANDARD
TZNAME:AKST
DTSTART:20231105T020000
TZOFFSETFROM:-0800
TZOFFSETTO:-0900
RDATE:20241103T020000
END:STANDARD
BEGIN:DAYLIGHT
TZNAME:AKDT
DTSTART:20230312T020000
TZOFFSETFROM:-0900
TZOFFSETTO:-0800
RDATE:20240310T020000
RDATE:20250309T020000
END:DAYLIGHT
END:VTIMEZONE
BEGIN:VEVENT
UID:983e8ed8-9007-4abc-b02c-d7a0bf9ce4ef
DTSTAMP:20260425T111212Z
DESCRIPTION:
DTSTART;TZID=America/Anchorage:20240130T190000
DTEND;TZID=America/Anchorage:20240130T210000
LOCATION:First Methodist Church on Main St
SUMMARY:Ketchikan Community Chorus Rehearsal
END:VEVENT
END:VCALENDAR
