BEGIN:VCALENDAR
VERSION:2.0
PRODID:-//www.ketchikanarts.org//NONSGML kigkonsult.se iCalcreator 2.30.10/
 /
CALSCALE:GREGORIAN
METHOD:PUBLISH
UID:55e7f80a-44b5-4cbc-8177-155e6293ef6f
X-WR-CALDESC:Celebrate Robert Burns\, hagis\, and poetry!!!
X-WR-RELCALID:fae540a7c9924e80e2adae467301ac16
X-WR-TIMEZONE:America/Anchorage
BEGIN:VTIMEZONE
TZID:America/Anchorage
BEGIN:STANDARD
TZNAME:AKST
DTSTART:20231105T020000
TZOFFSETFROM:-0800
TZOFFSETTO:-0900
RDATE:20241103T020000
END:STANDARD
BEGIN:DAYLIGHT
TZNAME:AKDT
DTSTART:20230312T020000
TZOFFSETFROM:-0900
TZOFFSETTO:-0800
RDATE:20240310T020000
RDATE:20250309T020000
END:DAYLIGHT
END:VTIMEZONE
BEGIN:VEVENT
UID:466f5522-5ee9-40b4-aab9-6ca803eb6401
DTSTAMP:20260425T110900Z
DESCRIPTION:Celebrate Robert Burns\, hagis\, and poetry!!!
DTSTART;TZID=America/Anchorage:20240127T170000
DTEND;TZID=America/Anchorage:20240127T190000
LOCATION:Red Men Lodge
SUMMARY:'Robert Burns Supper' presented by Misty Thistle Pipes and Drums!
END:VEVENT
END:VCALENDAR
