BEGIN:VCALENDAR
VERSION:2.0
PRODID:-//www.ketchikanarts.org//NONSGML kigkonsult.se iCalcreator 2.30.10/
 /
CALSCALE:GREGORIAN
METHOD:PUBLISH
UID:e927ea33-c4e8-461b-8d8a-15c340bb86b4
X-WR-CALDESC:
X-WR-RELCALID:a4e89a5c23db5185f54aee9828ef773c
X-WR-TIMEZONE:America/Anchorage
BEGIN:VTIMEZONE
TZID:America/Anchorage
BEGIN:STANDARD
TZNAME:AKST
DTSTART:20231105T020000
TZOFFSETFROM:-0800
TZOFFSETTO:-0900
RDATE:20241103T020000
END:STANDARD
BEGIN:DAYLIGHT
TZNAME:AKDT
DTSTART:20230312T020000
TZOFFSETFROM:-0900
TZOFFSETTO:-0800
RDATE:20240310T020000
RDATE:20250309T020000
END:DAYLIGHT
END:VTIMEZONE
BEGIN:VEVENT
UID:8c4a2a57-91e0-42da-8a21-5c7483aef90a
DTSTAMP:20260425T111213Z
DESCRIPTION:
DTSTART;TZID=America/Anchorage:20240123T190000
DTEND;TZID=America/Anchorage:20240123T210000
LOCATION:First Methodist Church on Main St
SUMMARY:Ketchikan Community Chorus Rehearsal
END:VEVENT
END:VCALENDAR
