BEGIN:VCALENDAR
VERSION:2.0
PRODID:-//www.ketchikanarts.org//NONSGML kigkonsult.se iCalcreator 2.30.10/
 /
CALSCALE:GREGORIAN
METHOD:PUBLISH
UID:bc2dfaf4-2f62-4202-89f9-9547743e704b
X-WR-CALDESC:
X-WR-RELCALID:89871c117649b162a5dc61caa70973fa
X-WR-TIMEZONE:America/Anchorage
BEGIN:VTIMEZONE
TZID:America/Anchorage
BEGIN:STANDARD
TZNAME:AKST
DTSTART:20231105T020000
TZOFFSETFROM:-0800
TZOFFSETTO:-0900
RDATE:20241103T020000
END:STANDARD
BEGIN:DAYLIGHT
TZNAME:AKDT
DTSTART:20230312T020000
TZOFFSETFROM:-0900
TZOFFSETTO:-0800
RDATE:20240310T020000
RDATE:20250309T020000
END:DAYLIGHT
END:VTIMEZONE
BEGIN:VEVENT
UID:9caf20e8-85ba-41fb-ba01-26d22feffbab
DTSTAMP:20260425T110918Z
DESCRIPTION:
DTSTART;TZID=America/Anchorage:20240120T190000
DTEND;TZID=America/Anchorage:20240120T220000
LOCATION:Ted Ferry Civic Center
SUMMARY:Jazz & Cabaret - presented by First City Players
END:VEVENT
END:VCALENDAR
