BEGIN:VCALENDAR
VERSION:2.0
PRODID:-//www.ketchikanarts.org//NONSGML kigkonsult.se iCalcreator 2.30.10/
 /
CALSCALE:GREGORIAN
METHOD:PUBLISH
UID:ebfe1367-4998-4b06-bff0-6cd5bafe779f
X-WR-CALDESC:
X-WR-RELCALID:8de430a6a97436bef4404fd291c6377b
X-WR-TIMEZONE:America/Anchorage
BEGIN:VTIMEZONE
TZID:America/Anchorage
BEGIN:STANDARD
TZNAME:AKST
DTSTART:20231105T020000
TZOFFSETFROM:-0800
TZOFFSETTO:-0900
RDATE:20241103T020000
END:STANDARD
BEGIN:DAYLIGHT
TZNAME:AKDT
DTSTART:20230312T020000
TZOFFSETFROM:-0900
TZOFFSETTO:-0800
RDATE:20240310T020000
RDATE:20250309T020000
END:DAYLIGHT
END:VTIMEZONE
BEGIN:VEVENT
UID:6c3dae34-113f-4c3f-b3c2-bc04d9876826
DTSTAMP:20260425T111212Z
DESCRIPTION:
DTSTART;TZID=America/Anchorage:20240118T173000
DTEND;TZID=America/Anchorage:20240118T183000
LOCATION:629 Dock Street
SUMMARY:Tongass Historical Society Annual Meeting
END:VEVENT
END:VCALENDAR
