BEGIN:VCALENDAR
VERSION:2.0
PRODID:-//www.ketchikanarts.org//NONSGML kigkonsult.se iCalcreator 2.30.10/
 /
CALSCALE:GREGORIAN
METHOD:PUBLISH
UID:91118586-01c6-4309-9dfd-d90fedd5e648
X-WR-CALDESC:
X-WR-RELCALID:3366f0829c52362f3bb949eccfeda488
X-WR-TIMEZONE:America/Anchorage
BEGIN:VTIMEZONE
TZID:America/Anchorage
BEGIN:STANDARD
TZNAME:AKST
DTSTART:20231105T020000
TZOFFSETFROM:-0800
TZOFFSETTO:-0900
RDATE:20241103T020000
END:STANDARD
BEGIN:DAYLIGHT
TZNAME:AKDT
DTSTART:20230312T020000
TZOFFSETFROM:-0900
TZOFFSETTO:-0800
RDATE:20240310T020000
RDATE:20250309T020000
END:DAYLIGHT
END:VTIMEZONE
BEGIN:VEVENT
UID:869928f1-28de-4848-9881-07c769755f49
DTSTAMP:20260425T110859Z
DESCRIPTION:
DTSTART;TZID=America/Anchorage:20240112T180000
DTEND;TZID=America/Anchorage:20240112T200000
LOCATION:Creek Street Cabaret
SUMMARY:Square Dance with the Free Radicals!
END:VEVENT
END:VCALENDAR
