BEGIN:VCALENDAR
VERSION:2.0
PRODID:-//www.ketchikanarts.org//NONSGML kigkonsult.se iCalcreator 2.30.10/
 /
CALSCALE:GREGORIAN
METHOD:PUBLISH
UID:7d8bd41d-cbc0-4ca4-bc78-861dfd4cedc6
X-WR-CALDESC:Opening Reception for 'Human Landscapes' exhibit.  \nPhotograp
 her Jeff Fitzwater creates images of community members sharing their stori
 es\, emotions\, and connections to family and friends.
X-WR-RELCALID:932675a9d916cc9c0cd1b832d6afde4b
X-WR-TIMEZONE:America/Anchorage
BEGIN:VTIMEZONE
TZID:America/Anchorage
BEGIN:STANDARD
TZNAME:AKST
DTSTART:20231105T020000
TZOFFSETFROM:-0800
TZOFFSETTO:-0900
RDATE:20241103T020000
END:STANDARD
BEGIN:DAYLIGHT
TZNAME:AKDT
DTSTART:20230312T020000
TZOFFSETFROM:-0900
TZOFFSETTO:-0800
RDATE:20240310T020000
RDATE:20250309T020000
END:DAYLIGHT
END:VTIMEZONE
BEGIN:VEVENT
UID:fa6a122d-30cb-4768-a49c-92d3fb75d57c
DTSTAMP:20260425T111105Z
DESCRIPTION:Opening Reception for 'Human Landscapes' exhibit.  \nPhotograph
 er Jeff Fitzwater creates images of community members sharing their storie
 s\, emotions\, and connections to family and friends.
DTSTART;TZID=America/Anchorage:20240105T170000
DTEND;TZID=America/Anchorage:20240105T190000
LOCATION:330 Main Street Gallery
SUMMARY:'Human Landscapes' Jeff Fitzwater Opening Reception
END:VEVENT
END:VCALENDAR
