BEGIN:VCALENDAR
VERSION:2.0
PRODID:-//www.ketchikanarts.org//NONSGML kigkonsult.se iCalcreator 2.30.10/
 /
CALSCALE:GREGORIAN
METHOD:PUBLISH
UID:022aab8b-d136-48bd-8f23-fde54a8e41ae
X-WR-CALDESC:Come check out Grace Freeman talk about how she makes her own 
 art and how she uses color artwork by other artists\, like Ray Troll at Th
 e Tongass National Museum.
X-WR-RELCALID:9877333a1e4d66ffdf49ecb0c092718c
X-WR-TIMEZONE:America/Anchorage
BEGIN:VTIMEZONE
TZID:America/Anchorage
BEGIN:STANDARD
TZNAME:AKST
DTSTART:20231105T020000
TZOFFSETFROM:-0800
TZOFFSETTO:-0900
RDATE:20241103T020000
END:STANDARD
BEGIN:DAYLIGHT
TZNAME:AKDT
DTSTART:20230312T020000
TZOFFSETFROM:-0900
TZOFFSETTO:-0800
RDATE:20240310T020000
RDATE:20250309T020000
END:DAYLIGHT
END:VTIMEZONE
BEGIN:VEVENT
UID:48bb2eb5-f5ee-4c20-978b-e3ba651663da
DTSTAMP:20260425T110720Z
DESCRIPTION:Come check out Grace Freeman talk about how she makes her own a
 rt and how she uses color artwork by other artists\, like Ray Troll at The
  Tongass National Museum.
DTSTART;TZID=America/Anchorage:20240104T120000
DTEND;TZID=America/Anchorage:20240104T133000
LOCATION:Tongass National Museum\, Ketchikan\, AK 99901 US
SUMMARY:Adventures in Color with Grace Freeman
END:VEVENT
END:VCALENDAR
