BEGIN:VCALENDAR
VERSION:2.0
PRODID:-//www.ketchikanarts.org//NONSGML kigkonsult.se iCalcreator 2.30.10/
 /
CALSCALE:GREGORIAN
METHOD:PUBLISH
UID:e6defdae-333f-42d2-8161-13619844514f
X-WR-CALDESC:Want a perfect way to complete the year? Spend the afternoon o
 f 12-31-23 WALTZING!!!  1-2-3  1-2-3\n\n
X-WR-RELCALID:d0fa88ca60fcc4cf5054f71dc22047c6
X-WR-TIMEZONE:America/Anchorage
BEGIN:VTIMEZONE
TZID:America/Anchorage
BEGIN:STANDARD
TZNAME:AKST
DTSTART:20231105T020000
TZOFFSETFROM:-0800
TZOFFSETTO:-0900
RDATE:20241103T020000
END:STANDARD
BEGIN:DAYLIGHT
TZNAME:AKDT
DTSTART:20230312T020000
TZOFFSETFROM:-0900
TZOFFSETTO:-0800
RDATE:20240310T020000
RDATE:20250309T020000
END:DAYLIGHT
END:VTIMEZONE
BEGIN:VEVENT
UID:e91eac97-acda-45be-b0eb-c28c795253dd
DTSTAMP:20260425T124322Z
DESCRIPTION:Want a perfect way to complete the year? Spend the afternoon of
  12-31-23 WALTZING!!!  1-2-3  1-2-3\n\n
DTSTART;TZID=America/Anchorage:20231231T141500
DTEND;TZID=America/Anchorage:20231231T160000
LOCATION:330 Main Street\, Ketchikan\, AK 99901 US
SUMMARY:Waltz Day with BOOMbal Dance Hall!!!
END:VEVENT
END:VCALENDAR
