BEGIN:VCALENDAR
VERSION:2.0
PRODID:-//www.ketchikanarts.org//NONSGML kigkonsult.se iCalcreator 2.30.10/
 /
CALSCALE:GREGORIAN
METHOD:PUBLISH
UID:5023bf6a-9c0f-42cf-abb4-a669933ba18a
X-WR-CALDESC:Wahooo!!!!!! The rescheduled Ketchikan Boat Parade will happen
  on December 30th of 2023!!!  Watch the Narrows after 4:30pm to see the in
 trepid vessels\, decked out in their finest! They will be sailing South fr
 om Peninsula Point.
X-WR-RELCALID:c875ba7a39a2e6009c845969c6ba0e9c
X-WR-TIMEZONE:America/Anchorage
BEGIN:VTIMEZONE
TZID:America/Anchorage
BEGIN:STANDARD
TZNAME:AKST
DTSTART:20231105T020000
TZOFFSETFROM:-0800
TZOFFSETTO:-0900
RDATE:20241103T020000
END:STANDARD
BEGIN:DAYLIGHT
TZNAME:AKDT
DTSTART:20230312T020000
TZOFFSETFROM:-0900
TZOFFSETTO:-0800
RDATE:20240310T020000
RDATE:20250309T020000
END:DAYLIGHT
END:VTIMEZONE
BEGIN:VEVENT
UID:fac5dfb3-ab6e-443e-b76d-7496dc272438
DTSTAMP:20260425T124323Z
DESCRIPTION:Wahooo!!!!!! The rescheduled Ketchikan Boat Parade will happen 
 on December 30th of 2023!!!  Watch the Narrows after 4:30pm to see the int
 repid vessels\, decked out in their finest! They will be sailing South fro
 m Peninsula Point.
DTSTART;TZID=America/Anchorage:20231230T163000
DTEND;TZID=America/Anchorage:20231230T173000
LOCATION:
SUMMARY:Re-Scheduled Ketchikan Boat Parade!!!!
END:VEVENT
END:VCALENDAR
