BEGIN:VCALENDAR
VERSION:2.0
PRODID:-//www.ketchikanarts.org//NONSGML kigkonsult.se iCalcreator 2.30.10/
 /
CALSCALE:GREGORIAN
METHOD:PUBLISH
UID:f4b7acf0-cc2c-40e9-a769-68bfbe0092be
X-WR-CALDESC:There are still spots available for this awesome class taught 
 by Kevin Clevenger!
X-WR-RELCALID:ee6678a99fa99ca990e69cd0f607496c
X-WR-TIMEZONE:America/Anchorage
BEGIN:VTIMEZONE
TZID:America/Anchorage
BEGIN:STANDARD
TZNAME:AKST
DTSTART:20231105T020000
TZOFFSETFROM:-0800
TZOFFSETTO:-0900
RDATE:20241103T020000
END:STANDARD
BEGIN:DAYLIGHT
TZNAME:AKDT
DTSTART:20230312T020000
TZOFFSETFROM:-0900
TZOFFSETTO:-0800
RDATE:20240310T020000
RDATE:20250309T020000
END:DAYLIGHT
END:VTIMEZONE
BEGIN:VEVENT
UID:6b7c0aa2-74a6-48f7-9c4d-981f2bc238de
DTSTAMP:20260425T124255Z
DESCRIPTION:There are still spots available for this awesome class taught b
 y Kevin Clevenger!
DTSTART;TZID=America/Anchorage:20231219T173000
DTEND;TZID=America/Anchorage:20231219T210000
LOCATION:Ketchikan\, AK
SUMMARY:Beginning Carving Class with Kevin Clevenger!
END:VEVENT
END:VCALENDAR
