BEGIN:VCALENDAR
VERSION:2.0
PRODID:-//www.ketchikanarts.org//NONSGML kigkonsult.se iCalcreator 2.30.10/
 /
CALSCALE:GREGORIAN
METHOD:PUBLISH
UID:d7d98ab9-6696-408e-b358-9808a5ee489f
X-WR-CALDESC:First City Toastmasters welcomes all who want to improve their
  confidence in speaking to a group of 2 or 200. Perfect for mastering arti
 st talks!\nEvery Tuesday!\n6:45 - 7:45 am. In-person on the lower level of
  the Presbyterian Church or by ZOOM.
X-WR-RELCALID:8cee6e6a5fb70f6c6ea1a352536a1616
X-WR-TIMEZONE:America/Anchorage
BEGIN:VTIMEZONE
TZID:America/Anchorage
BEGIN:STANDARD
TZNAME:AKST
DTSTART:20231105T020000
TZOFFSETFROM:-0800
TZOFFSETTO:-0900
RDATE:20241103T020000
END:STANDARD
BEGIN:DAYLIGHT
TZNAME:AKDT
DTSTART:20230312T020000
TZOFFSETFROM:-0900
TZOFFSETTO:-0800
RDATE:20240310T020000
RDATE:20250309T020000
END:DAYLIGHT
END:VTIMEZONE
BEGIN:VEVENT
UID:4568d2df-f637-4e94-a8f6-989396042283
DTSTAMP:20260425T124952Z
DESCRIPTION:First City Toastmasters welcomes all who want to improve their 
 confidence in speaking to a group of 2 or 200. Perfect for mastering artis
 t talks!\nEvery Tuesday!\n6:45 - 7:45 am. In-person on the lower level of 
 the Presbyterian Church or by ZOOM.
DTSTART;TZID=America/Anchorage:20231219T064500
DTEND;TZID=America/Anchorage:20231219T074500
LOCATION:
SUMMARY:First City Toastmasters Club
END:VEVENT
END:VCALENDAR
