BEGIN:VCALENDAR
VERSION:2.0
PRODID:-//www.ketchikanarts.org//NONSGML kigkonsult.se iCalcreator 2.30.10/
 /
CALSCALE:GREGORIAN
METHOD:PUBLISH
UID:4f35896b-ff4d-445d-9118-d415397b8bfa
X-WR-CALDESC:Come here the Schoenbar music program shine in their annual Wi
 nter Concert!!!
X-WR-RELCALID:ab75796fdc99a4e8797bc3b2bd7c8373
X-WR-TIMEZONE:America/Anchorage
BEGIN:VTIMEZONE
TZID:America/Anchorage
BEGIN:STANDARD
TZNAME:AKST
DTSTART:20231105T020000
TZOFFSETFROM:-0800
TZOFFSETTO:-0900
RDATE:20241103T020000
END:STANDARD
BEGIN:DAYLIGHT
TZNAME:AKDT
DTSTART:20230312T020000
TZOFFSETFROM:-0900
TZOFFSETTO:-0800
RDATE:20240310T020000
RDATE:20250309T020000
END:DAYLIGHT
END:VTIMEZONE
BEGIN:VEVENT
UID:da47e39c-37bd-49f8-8e70-e908e0e5a5d8
DTSTAMP:20260425T124718Z
DESCRIPTION:Come here the Schoenbar music program shine in their annual Win
 ter Concert!!!
DTSTART;TZID=America/Anchorage:20231213T190000
DTEND;TZID=America/Anchorage:20231213T210000
LOCATION:Kayhi Auditorium
SUMMARY:Schoenbar Middle School Winter Concert
END:VEVENT
END:VCALENDAR
