BEGIN:VCALENDAR
VERSION:2.0
PRODID:-//www.ketchikanarts.org//NONSGML kigkonsult.se iCalcreator 2.30.10/
 /
CALSCALE:GREGORIAN
METHOD:PUBLISH
UID:60eb14b1-16e9-4cf2-b391-6cd4a3167108
X-WR-CALDESC:
X-WR-RELCALID:d3e551e7fec0a5ced615f235944ff4e0
X-WR-TIMEZONE:America/Anchorage
BEGIN:VTIMEZONE
TZID:America/Anchorage
BEGIN:STANDARD
TZNAME:AKST
DTSTART:20231105T020000
TZOFFSETFROM:-0800
TZOFFSETTO:-0900
RDATE:20241103T020000
END:STANDARD
BEGIN:DAYLIGHT
TZNAME:AKDT
DTSTART:20230312T020000
TZOFFSETFROM:-0900
TZOFFSETTO:-0800
RDATE:20240310T020000
RDATE:20250309T020000
END:DAYLIGHT
END:VTIMEZONE
BEGIN:VEVENT
UID:3c30d2c2-274d-4f8e-a782-4704ab828898
DTSTAMP:20260425T124830Z
DESCRIPTION:
DTSTART;TZID=America/Anchorage:20231213T190000
DTEND;TZID=America/Anchorage:20231213T210000
LOCATION:First City Players office - 338 Main Street
SUMMARY:AUDITIONS for 'Still Alice' a production of First City Players
END:VEVENT
END:VCALENDAR
