BEGIN:VCALENDAR
VERSION:2.0
PRODID:-//www.ketchikanarts.org//NONSGML kigkonsult.se iCalcreator 2.30.10/
 /
CALSCALE:GREGORIAN
METHOD:PUBLISH
UID:5f83ec29-b23c-4d5e-b41d-6f484f0c4e69
X-WR-CALDESC:There are still spots available for this awesome class taught 
 by Kevin Clevenger!
X-WR-RELCALID:e2f08a86658c1637124329f5e82d7454
X-WR-TIMEZONE:America/Anchorage
BEGIN:VTIMEZONE
TZID:America/Anchorage
BEGIN:STANDARD
TZNAME:AKST
DTSTART:20231105T020000
TZOFFSETFROM:-0800
TZOFFSETTO:-0900
RDATE:20241103T020000
END:STANDARD
BEGIN:DAYLIGHT
TZNAME:AKDT
DTSTART:20230312T020000
TZOFFSETFROM:-0900
TZOFFSETTO:-0800
RDATE:20240310T020000
RDATE:20250309T020000
END:DAYLIGHT
END:VTIMEZONE
BEGIN:VEVENT
UID:6a0f85a8-9d97-49e3-bc91-a19e3b8f3164
DTSTAMP:20260425T124740Z
DESCRIPTION:There are still spots available for this awesome class taught b
 y Kevin Clevenger!
DTSTART;TZID=America/Anchorage:20231213T173000
DTEND;TZID=America/Anchorage:20231213T210000
LOCATION:Ketchikan\, AK
SUMMARY:Beginning Carving Class with Kevin Clevenger!
END:VEVENT
END:VCALENDAR
