BEGIN:VCALENDAR
VERSION:2.0
PRODID:-//www.ketchikanarts.org//NONSGML kigkonsult.se iCalcreator 2.30.10/
 /
CALSCALE:GREGORIAN
METHOD:PUBLISH
UID:ed260c9d-e705-4a0c-8ee9-8d4810e5a19e
X-WR-CALDESC:
X-WR-RELCALID:dcd28a0a8f39ac03e19aa2376ec7e02d
X-WR-TIMEZONE:America/Anchorage
BEGIN:VTIMEZONE
TZID:America/Anchorage
BEGIN:STANDARD
TZNAME:AKST
DTSTART:20231105T020000
TZOFFSETFROM:-0800
TZOFFSETTO:-0900
RDATE:20241103T020000
END:STANDARD
BEGIN:DAYLIGHT
TZNAME:AKDT
DTSTART:20230312T020000
TZOFFSETFROM:-0900
TZOFFSETTO:-0800
RDATE:20240310T020000
RDATE:20250309T020000
END:DAYLIGHT
END:VTIMEZONE
BEGIN:VEVENT
UID:52b82150-af6a-4343-bceb-9690a30d484e
DTSTAMP:20260425T123819Z
DESCRIPTION:
DTSTART;TZID=America/Anchorage:20231211T173000
DTEND;TZID=America/Anchorage:20231211T193000
LOCATION:Main Street Gallery
SUMMARY:BOOMbal Dancehall
END:VEVENT
END:VCALENDAR
