BEGIN:VCALENDAR
VERSION:2.0
PRODID:-//www.ketchikanarts.org//NONSGML kigkonsult.se iCalcreator 2.30.10/
 /
CALSCALE:GREGORIAN
METHOD:PUBLISH
UID:816afed1-9862-4370-8988-d5dc559cf356
X-WR-CALDESC:There are still spots available for this awesome class taught 
 by Kevin Clevenger!
X-WR-RELCALID:188f20d41237590392182f3af51f7987
X-WR-TIMEZONE:America/Anchorage
BEGIN:VTIMEZONE
TZID:America/Anchorage
BEGIN:STANDARD
TZNAME:AKST
DTSTART:20231105T020000
TZOFFSETFROM:-0800
TZOFFSETTO:-0900
RDATE:20241103T020000
END:STANDARD
BEGIN:DAYLIGHT
TZNAME:AKDT
DTSTART:20230312T020000
TZOFFSETFROM:-0900
TZOFFSETTO:-0800
RDATE:20240310T020000
RDATE:20250309T020000
END:DAYLIGHT
END:VTIMEZONE
BEGIN:VEVENT
UID:d43ddcdd-7531-407f-9100-0310b05848cf
DTSTAMP:20260425T123954Z
DESCRIPTION:There are still spots available for this awesome class taught b
 y Kevin Clevenger!
DTSTART;TZID=America/Anchorage:20231211T173000
DTEND;TZID=America/Anchorage:20231211T210000
LOCATION:Ketchikan\, AK
SUMMARY:Beginning Carving Class with Kevin Clevenger!
END:VEVENT
END:VCALENDAR
