BEGIN:VCALENDAR
VERSION:2.0
PRODID:-//www.ketchikanarts.org//NONSGML kigkonsult.se iCalcreator 2.30.10/
 /
CALSCALE:GREGORIAN
METHOD:PUBLISH
UID:5c3bdafb-a9a0-42cf-a171-ffc4a1aac5d1
X-WR-CALDESC:Artist/Vendor tables are still available!
X-WR-RELCALID:2747a069e35c459a26759172286307e3
X-WR-TIMEZONE:America/Anchorage
BEGIN:VTIMEZONE
TZID:America/Anchorage
BEGIN:STANDARD
TZNAME:AKST
DTSTART:20231105T020000
TZOFFSETFROM:-0800
TZOFFSETTO:-0900
RDATE:20241103T020000
END:STANDARD
BEGIN:DAYLIGHT
TZNAME:AKDT
DTSTART:20230312T020000
TZOFFSETFROM:-0900
TZOFFSETTO:-0800
RDATE:20240310T020000
RDATE:20250309T020000
END:DAYLIGHT
END:VTIMEZONE
BEGIN:VEVENT
UID:51efa918-3dd5-4d6b-97ff-4dbb661c76e4
DTSTAMP:20260425T124423Z
DESCRIPTION:Artist/Vendor tables are still available!
DTSTART;TZID=America/Anchorage:20231210T110000
DTEND;TZID=America/Anchorage:20231210T160000
LOCATION:KIC Educaiton/Elders Cafe\, 615 Steadman St\, Ketchikan\, AK 99901
  US
SUMMARY:Native Art Christmas Market
END:VEVENT
END:VCALENDAR
