BEGIN:VCALENDAR
VERSION:2.0
PRODID:-//www.ketchikanarts.org//NONSGML kigkonsult.se iCalcreator 2.30.10/
 /
CALSCALE:GREGORIAN
METHOD:PUBLISH
UID:93a57cf3-4722-4345-8d88-3011e25c8708
X-WR-CALDESC:
X-WR-RELCALID:48715ee5cb3251c8bc141569d3d9a54b
X-WR-TIMEZONE:America/Anchorage
BEGIN:VTIMEZONE
TZID:America/Anchorage
BEGIN:STANDARD
TZNAME:AKST
DTSTART:20231105T020000
TZOFFSETFROM:-0800
TZOFFSETTO:-0900
RDATE:20241103T020000
END:STANDARD
BEGIN:DAYLIGHT
TZNAME:AKDT
DTSTART:20230312T020000
TZOFFSETFROM:-0900
TZOFFSETTO:-0800
RDATE:20240310T020000
RDATE:20250309T020000
END:DAYLIGHT
END:VTIMEZONE
BEGIN:VEVENT
UID:eca9297d-cfc0-4ed4-871b-2affecf79598
DTSTAMP:20260425T124256Z
DESCRIPTION:
DTSTART;TZID=America/Anchorage:20231210T150000
DTEND;TZID=America/Anchorage:20231210T163000
LOCATION:First United Methodist Church
SUMMARY:Ketchikan Community Chorus Concert!!!
END:VEVENT
END:VCALENDAR
