BEGIN:VCALENDAR
VERSION:2.0
PRODID:-//www.ketchikanarts.org//NONSGML kigkonsult.se iCalcreator 2.30.10/
 /
CALSCALE:GREGORIAN
METHOD:PUBLISH
UID:f01561d1-5b0b-45f3-b3d8-460bb263c19d
X-WR-CALDESC:Don't miss this annual holiday favorite!!!
X-WR-RELCALID:a205cd85db2f0f86dae27289e24dd51f
X-WR-TIMEZONE:America/Anchorage
BEGIN:VTIMEZONE
TZID:America/Anchorage
BEGIN:STANDARD
TZNAME:AKST
DTSTART:20231105T020000
TZOFFSETFROM:-0800
TZOFFSETTO:-0900
RDATE:20241103T020000
END:STANDARD
BEGIN:DAYLIGHT
TZNAME:AKDT
DTSTART:20230312T020000
TZOFFSETFROM:-0900
TZOFFSETTO:-0800
RDATE:20240310T020000
RDATE:20250309T020000
END:DAYLIGHT
END:VTIMEZONE
BEGIN:VEVENT
UID:bdc43568-eaf6-4adb-ad91-a59409a5fff3
DTSTAMP:20260425T123843Z
DESCRIPTION:Don't miss this annual holiday favorite!!!
DTSTART;TZID=America/Anchorage:20231208T193000
DTEND;TZID=America/Anchorage:20231208T220000
LOCATION:Kayhi Auditorium
SUMMARY:Ketchikan Theatre Ballet - 'Nutcracker'
END:VEVENT
END:VCALENDAR
