BEGIN:VCALENDAR
VERSION:2.0
PRODID:-//www.ketchikanarts.org//NONSGML kigkonsult.se iCalcreator 2.30.10/
 /
CALSCALE:GREGORIAN
METHOD:PUBLISH
UID:cc4abe37-a72b-4aa5-9757-d2d54a6d3f76
X-WR-CALDESC:
X-WR-RELCALID:09fe49d2c0f1edcc166fbc0a2c32fd23
X-WR-TIMEZONE:America/Anchorage
BEGIN:VTIMEZONE
TZID:America/Anchorage
BEGIN:STANDARD
TZNAME:AKST
DTSTART:20231105T020000
TZOFFSETFROM:-0800
TZOFFSETTO:-0900
RDATE:20241103T020000
END:STANDARD
BEGIN:DAYLIGHT
TZNAME:AKDT
DTSTART:20230312T020000
TZOFFSETFROM:-0900
TZOFFSETTO:-0800
RDATE:20240310T020000
RDATE:20250309T020000
END:DAYLIGHT
END:VTIMEZONE
BEGIN:VEVENT
UID:8936ec6b-2139-41fd-9679-e046dc150a58
DTSTAMP:20260425T124245Z
DESCRIPTION:
DTSTART;TZID=America/Anchorage:20231206T190000
DTEND;TZID=America/Anchorage:20231206T203000
LOCATION:First United Methodist Church
SUMMARY:Ketchikan Community Chorus Concert!!!
END:VEVENT
END:VCALENDAR
