BEGIN:VCALENDAR
VERSION:2.0
PRODID:-//www.ketchikanarts.org//NONSGML kigkonsult.se iCalcreator 2.30.10/
 /
CALSCALE:GREGORIAN
METHOD:PUBLISH
UID:0818ca9c-73e6-4085-b907-02a87a503bec
X-WR-CALDESC:This Open Call exhibit is for the youth in the Ketchikan area 
 to display their most recent work in a professional setting.  Come out and
  support young artists!!!
X-WR-RELCALID:1dba4af8cbb049a9dc95f0ff146a7f0b
X-WR-TIMEZONE:America/Anchorage
BEGIN:VTIMEZONE
TZID:America/Anchorage
BEGIN:STANDARD
TZNAME:AKST
DTSTART:20231105T020000
TZOFFSETFROM:-0800
TZOFFSETTO:-0900
RDATE:20241103T020000
END:STANDARD
BEGIN:DAYLIGHT
TZNAME:AKDT
DTSTART:20230312T020000
TZOFFSETFROM:-0900
TZOFFSETTO:-0800
RDATE:20240310T020000
RDATE:20250309T020000
END:DAYLIGHT
END:VTIMEZONE
BEGIN:VEVENT
UID:15ba6cc2-b44e-4b50-9e44-c923554715f1
DTSTAMP:20260425T124148Z
DESCRIPTION:This Open Call exhibit is for the youth in the Ketchikan area t
 o display their most recent work in a professional setting.  Come out and 
 support young artists!!!
DTSTART;TZID=America/Anchorage:20231204T090000
DTEND;TZID=America/Anchorage:20231209T170000
LOCATION:330 Main Street Gallery
SUMMARY:Youth In Art Exhibit
END:VEVENT
END:VCALENDAR
