BEGIN:VCALENDAR
VERSION:2.0
PRODID:-//www.ketchikanarts.org//NONSGML kigkonsult.se iCalcreator 2.30.10/
 /
CALSCALE:GREGORIAN
METHOD:PUBLISH
UID:974fcc1e-a26b-4f1d-b564-26cf0739c098
X-WR-CALDESC:The opening reception for KAAHC's annual Youth In Art exhibit 
 will feature snacks and punch - and LOTS of artwork!!! The exhibit runs un
 til Friday December 8th\, 2023.
X-WR-RELCALID:4653e67f9a5174442d426482320625ce
X-WR-TIMEZONE:America/Anchorage
BEGIN:VTIMEZONE
TZID:America/Anchorage
BEGIN:STANDARD
TZNAME:AKST
DTSTART:20231105T020000
TZOFFSETFROM:-0800
TZOFFSETTO:-0900
RDATE:20241103T020000
END:STANDARD
BEGIN:DAYLIGHT
TZNAME:AKDT
DTSTART:20230312T020000
TZOFFSETFROM:-0900
TZOFFSETTO:-0800
RDATE:20240310T020000
RDATE:20250309T020000
END:DAYLIGHT
END:VTIMEZONE
BEGIN:VEVENT
UID:45db458d-91b5-4670-89aa-206974724adc
DTSTAMP:20260425T124030Z
DESCRIPTION:The opening reception for KAAHC's annual Youth In Art exhibit w
 ill feature snacks and punch - and LOTS of artwork!!! The exhibit runs unt
 il Friday December 8th\, 2023.
DTSTART;TZID=America/Anchorage:20231201T170000
DTEND;TZID=America/Anchorage:20231201T200000
LOCATION:
SUMMARY:Youth In Art Opening Reception
END:VEVENT
END:VCALENDAR
