BEGIN:VCALENDAR
VERSION:2.0
PRODID:-//www.ketchikanarts.org//NONSGML kigkonsult.se iCalcreator 2.30.10/
 /
CALSCALE:GREGORIAN
METHOD:PUBLISH
UID:f14de719-7003-4531-b817-5d56e3645f78
X-WR-CALDESC:
X-WR-RELCALID:96aadeebf0b5e4949788e0a418a1c00b
X-WR-TIMEZONE:America/Anchorage
BEGIN:VTIMEZONE
TZID:America/Anchorage
BEGIN:STANDARD
TZNAME:AKST
DTSTART:20231105T020000
TZOFFSETFROM:-0800
TZOFFSETTO:-0900
RDATE:20241103T020000
END:STANDARD
BEGIN:DAYLIGHT
TZNAME:AKDT
DTSTART:20230312T020000
TZOFFSETFROM:-0900
TZOFFSETTO:-0800
RDATE:20240310T020000
RDATE:20250309T020000
END:DAYLIGHT
END:VTIMEZONE
BEGIN:VEVENT
UID:77b87a21-8738-49f6-aede-1ebe2eddd665
DTSTAMP:20260425T124446Z
DESCRIPTION:
DTSTART;TZID=America/Anchorage:20231201T190000
DTEND;TZID=America/Anchorage:20231201T210000
LOCATION:Kayhi Auditorium
SUMMARY:Disney's Frozen - presented by KAYHI Drama Kings!
END:VEVENT
END:VCALENDAR
