BEGIN:VCALENDAR
VERSION:2.0
PRODID:-//www.ketchikanarts.org//NONSGML kigkonsult.se iCalcreator 2.30.10/
 /
CALSCALE:GREGORIAN
METHOD:PUBLISH
UID:4abd4feb-89ca-4754-a879-bad4c1bf4f37
X-WR-CALDESC:Faire Continues. Admission is Free.
X-WR-RELCALID:9cb6a92bf1a7023eba2d24df5a3c8e65
X-WR-TIMEZONE:America/Anchorage
BEGIN:VTIMEZONE
TZID:America/Anchorage
BEGIN:STANDARD
TZNAME:AKST
DTSTART:20231105T020000
TZOFFSETFROM:-0800
TZOFFSETTO:-0900
RDATE:20241103T020000
END:STANDARD
BEGIN:DAYLIGHT
TZNAME:AKDT
DTSTART:20230312T020000
TZOFFSETFROM:-0900
TZOFFSETTO:-0800
RDATE:20240310T020000
RDATE:20250309T020000
END:DAYLIGHT
END:VTIMEZONE
BEGIN:VEVENT
UID:6027ca6b-aab6-4d39-a506-6b68d01653cd
DTSTAMP:20260425T140708Z
DESCRIPTION:Faire Continues. Admission is Free.
DTSTART;TZID=America/Anchorage:20231125T100000
DTEND;TZID=America/Anchorage:20231125T170000
LOCATION:National Guard Armory
SUMMARY:Winter Arts Faire
END:VEVENT
END:VCALENDAR
