BEGIN:VCALENDAR
VERSION:2.0
PRODID:-//www.ketchikanarts.org//NONSGML kigkonsult.se iCalcreator 2.30.10/
 /
CALSCALE:GREGORIAN
METHOD:PUBLISH
UID:e3177f30-da42-40f6-93e5-3ec5cb9289fe
X-WR-CALDESC:
X-WR-RELCALID:3b73ab36d461f50713225abd8d49dacf
X-WR-TIMEZONE:America/Anchorage
BEGIN:VTIMEZONE
TZID:America/Anchorage
BEGIN:STANDARD
TZNAME:AKST
DTSTART:20231105T020000
TZOFFSETFROM:-0800
TZOFFSETTO:-0900
RDATE:20241103T020000
END:STANDARD
BEGIN:DAYLIGHT
TZNAME:AKDT
DTSTART:20230312T020000
TZOFFSETFROM:-0900
TZOFFSETTO:-0800
RDATE:20240310T020000
RDATE:20250309T020000
END:DAYLIGHT
END:VTIMEZONE
BEGIN:VEVENT
UID:106aa1c6-f747-405e-855d-515a5bed5a9b
DTSTAMP:20260425T141152Z
DESCRIPTION:
DTSTART;TZID=America/Anchorage:20231125T190000
DTEND;TZID=America/Anchorage:20231125T210000
LOCATION:Kayhi Auditorium
SUMMARY:Disney's Frozen - presented by KAYHI Drama Kings!
END:VEVENT
END:VCALENDAR
