BEGIN:VCALENDAR
VERSION:2.0
PRODID:-//www.ketchikanarts.org//NONSGML kigkonsult.se iCalcreator 2.30.10/
 /
CALSCALE:GREGORIAN
METHOD:PUBLISH
UID:f3e4e644-f723-4941-bb9c-ab549953fa35
X-WR-CALDESC:Opening Gala Reception! No Host Bar. $5
X-WR-RELCALID:1d46160cf3ed96d825a2aebbd79a453c
X-WR-TIMEZONE:America/Anchorage
BEGIN:VTIMEZONE
TZID:America/Anchorage
BEGIN:STANDARD
TZNAME:AKST
DTSTART:20231105T020000
TZOFFSETFROM:-0800
TZOFFSETTO:-0900
RDATE:20241103T020000
END:STANDARD
BEGIN:DAYLIGHT
TZNAME:AKDT
DTSTART:20230312T020000
TZOFFSETFROM:-0900
TZOFFSETTO:-0800
RDATE:20240310T020000
RDATE:20250309T020000
END:DAYLIGHT
END:VTIMEZONE
BEGIN:VEVENT
UID:7faa94f0-608f-4c3b-89ea-5cdb28acebe6
DTSTAMP:20260425T141031Z
DESCRIPTION:Opening Gala Reception! No Host Bar. $5
DTSTART;TZID=America/Anchorage:20231124T170000
DTEND;TZID=America/Anchorage:20231124T200000
LOCATION:Army National Guard Ketchikan Armory
SUMMARY:Winter Arts Faire Opening Gala!
END:VEVENT
END:VCALENDAR
